BEGIN:VCALENDAR
VERSION:2.0
PRODID:-//BCW Workforce - ECPv6.15.20//NONSGML v1.0//EN
CALSCALE:GREGORIAN
METHOD:PUBLISH
X-ORIGINAL-URL:https://bcwworkforce.com
X-WR-CALDESC:Events for BCW Workforce
REFRESH-INTERVAL;VALUE=DURATION:PT1H
X-Robots-Tag:noindex
X-PUBLISHED-TTL:PT1H
BEGIN:VTIMEZONE
TZID:America/New_York
BEGIN:DAYLIGHT
TZOFFSETFROM:-0500
TZOFFSETTO:-0400
TZNAME:EDT
DTSTART:20240310T070000
END:DAYLIGHT
BEGIN:STANDARD
TZOFFSETFROM:-0400
TZOFFSETTO:-0500
TZNAME:EST
DTSTART:20241103T060000
END:STANDARD
BEGIN:DAYLIGHT
TZOFFSETFROM:-0500
TZOFFSETTO:-0400
TZNAME:EDT
DTSTART:20250309T070000
END:DAYLIGHT
BEGIN:STANDARD
TZOFFSETFROM:-0400
TZOFFSETTO:-0500
TZNAME:EST
DTSTART:20251102T060000
END:STANDARD
BEGIN:DAYLIGHT
TZOFFSETFROM:-0500
TZOFFSETTO:-0400
TZNAME:EDT
DTSTART:20260308T070000
END:DAYLIGHT
BEGIN:STANDARD
TZOFFSETFROM:-0400
TZOFFSETTO:-0500
TZNAME:EST
DTSTART:20261101T060000
END:STANDARD
END:VTIMEZONE
BEGIN:VEVENT
DTSTART;TZID=America/New_York:20250603T100000
DTEND;TZID=America/New_York:20250603T120000
DTSTAMP:20260421T215602
CREATED:20250519T180221Z
LAST-MODIFIED:20250519T180221Z
UID:8852-1748944800-1748952000@bcwworkforce.com
SUMMARY:BCW/Workforce Career Fair
DESCRIPTION:Career Fair 6.3.25
URL:https://bcwworkforce.com/event-old/bcw-workforce-career-fair-2/
LOCATION:Butler County Ohio Means Jobs\, 101 Knightsbridge Drive Suite 1228\, Hamilton\, Ohio\, 45011
END:VEVENT
BEGIN:VEVENT
DTSTART;TZID=America/New_York:20250612T110000
DTEND;TZID=America/New_York:20250612T150000
DTSTAMP:20260421T215602
CREATED:20250401T172800Z
LAST-MODIFIED:20250401T172800Z
UID:8586-1749726000-1749740400@bcwworkforce.com
SUMMARY:Ohio Means Jobs Pop-Ups
DESCRIPTION:omjlist03-07-2025-083851-1 (5)
URL:https://bcwworkforce.com/event-old/ohio-means-jobs-pop-ups-2/
LOCATION:MidPointe Library West Chester\, 9363 Centre Pointe Dr.\, West Chester\, ohio\, 45069
END:VEVENT
BEGIN:VEVENT
DTSTART;TZID=America/New_York:20250627T100000
DTEND;TZID=America/New_York:20250627T140000
DTSTAMP:20260421T215602
CREATED:20250617T135056Z
LAST-MODIFIED:20250617T135056Z
UID:9031-1751018400-1751032800@bcwworkforce.com
SUMMARY:Patrick Staffing Career Event
DESCRIPTION:
URL:https://bcwworkforce.com/event-old/patrick-staffing-career-event-2/
LOCATION:Butler County Ohio Means Jobs\, 101 Knightsbridge Drive Suite 1228\, Hamilton\, Ohio\, 45011
END:VEVENT
BEGIN:VEVENT
DTSTART;TZID=America/New_York:20250627T100000
DTEND;TZID=America/New_York:20250627T140000
DTSTAMP:20260421T215602
CREATED:20250617T135159Z
LAST-MODIFIED:20250617T135159Z
UID:9033-1751018400-1751032800@bcwworkforce.com
SUMMARY:Hiring Event
DESCRIPTION:
URL:https://bcwworkforce.com/event-old/hiring-event/
LOCATION:Butler County Ohio Means Jobs\, 101 Knightsbridge Drive Suite 1228\, Hamilton\, Ohio\, 45011
END:VEVENT
END:VCALENDAR